BEGIN:VCALENDAR
VERSION:2.0
PRODID:-//DP Pro Event Calendar//3.2.6//EN
BEGIN:VEVENT
UID:41b254fb-eb2e-41ec-a4c0-996ad18fd07d
DTSTART;TZID=UTC:20200611T183000
DTEND;TZID=UTC:20200611T193000
DTSTAMP:20200608T134922Z
SUMMARY:Dressuur Ilona
DESCRIPTION:
LOCATION:
URL:
END:VEVENT
END:VCALENDAR