BEGIN:VCALENDAR
VERSION:2.0
PRODID:-//DP Pro Event Calendar//3.2.6//EN
BEGIN:VEVENT
UID:cb86e68b-f15f-4240-b3b6-a15c8ab9c1c3
DTSTART;TZID=UTC:20200611T203000
DTEND;TZID=UTC:20200611T213000
DTSTAMP:20200608T135232Z
SUMMARY:Western Ilona
DESCRIPTION:
LOCATION:
URL:
END:VEVENT
END:VCALENDAR