BEGIN:VCALENDAR
VERSION:2.0
PRODID:-//DP Pro Event Calendar//3.2.6//EN
BEGIN:VEVENT
UID:e996c675-234b-46a4-844f-f19a8fbf39d4
DTSTART;TZID=UTC:20200615T190000
DTEND;TZID=UTC:20200615T200000
DTSTAMP:20200608T124225Z
SUMMARY:Dressuur Ilona
DESCRIPTION:
LOCATION:
URL:
END:VEVENT
END:VCALENDAR