BEGIN:VCALENDAR
VERSION:2.0
PRODID:-//DP Pro Event Calendar//3.2.6//EN
BEGIN:VEVENT
UID:44a34f9d-55d0-48d3-b574-98d8686c1229
DTSTART;TZID=UTC:20200618T203000
DTEND;TZID=UTC:20200618T213000
DTSTAMP:20200608T135232Z
SUMMARY:Western Ilona
DESCRIPTION:
LOCATION:
URL:
END:VEVENT
END:VCALENDAR