BEGIN:VCALENDAR
VERSION:2.0
PRODID:-//DP Pro Event Calendar//3.2.6//EN
BEGIN:VEVENT
UID:133fe9c1-237b-4491-b0cf-403459767c36
DTSTART;TZID=UTC:20200622T190000
DTEND;TZID=UTC:20200622T200000
DTSTAMP:20200608T124225Z
SUMMARY:Dressuur Ilona
DESCRIPTION:
LOCATION:
URL:
END:VEVENT
END:VCALENDAR