BEGIN:VCALENDAR
VERSION:2.0
PRODID:-//DP Pro Event Calendar//3.2.6//EN
BEGIN:VEVENT
UID:fd2f7682-cc9f-45be-81a7-98004ab13961
DTSTART;TZID=UTC:20200625T183000
DTEND;TZID=UTC:20200625T193000
DTSTAMP:20200608T134922Z
SUMMARY:Dressuur Ilona
DESCRIPTION:
LOCATION:
URL:
END:VEVENT
END:VCALENDAR