BEGIN:VCALENDAR
VERSION:2.0
PRODID:-//DP Pro Event Calendar//3.2.6//EN
BEGIN:VEVENT
UID:f13f9041-4338-4d58-88be-bf112e9cf1bb
DTSTART;TZID=UTC:20200625T203000
DTEND;TZID=UTC:20200625T213000
DTSTAMP:20200608T135232Z
SUMMARY:Western Ilona
DESCRIPTION:
LOCATION:
URL:
END:VEVENT
END:VCALENDAR