BEGIN:VCALENDAR
VERSION:2.0
PRODID:-//DP Pro Event Calendar//3.2.6//EN
BEGIN:VEVENT
UID:d00dc921-6d75-41bc-97b8-71786ead21e0
DTSTART;TZID=UTC:20200629T190000
DTEND;TZID=UTC:20200629T200000
DTSTAMP:20200608T124225Z
SUMMARY:Dressuur Ilona
DESCRIPTION:
LOCATION:
URL:
END:VEVENT
END:VCALENDAR