BEGIN:VCALENDAR
VERSION:2.0
PRODID:-//DP Pro Event Calendar//3.2.6//EN
BEGIN:VEVENT
UID:904b0a87-f1ef-4b19-8734-1d6ea3a24970
DTSTART;TZID=UTC:20200702T183000
DTEND;TZID=UTC:20200702T193000
DTSTAMP:20200608T134922Z
SUMMARY:Dressuur Ilona
DESCRIPTION:
LOCATION:
URL:
END:VEVENT
END:VCALENDAR