BEGIN:VCALENDAR
VERSION:2.0
PRODID:-//DP Pro Event Calendar//3.2.6//EN
BEGIN:VEVENT
UID:532a289b-4e93-4c6c-a961-40524cbed1d3
DTSTART;TZID=UTC:20200702T203000
DTEND;TZID=UTC:20200702T213000
DTSTAMP:20200608T135232Z
SUMMARY:Western Ilona
DESCRIPTION:
LOCATION:
URL:
END:VEVENT
END:VCALENDAR