BEGIN:VCALENDAR
VERSION:2.0
PRODID:-//DP Pro Event Calendar//3.2.6//EN
BEGIN:VEVENT
UID:c34fd8be-ef82-4bd2-ac19-534be283634a
DTSTART;TZID=UTC:20200706T190000
DTEND;TZID=UTC:20200706T200000
DTSTAMP:20200608T124225Z
SUMMARY:Dressuur Ilona
DESCRIPTION:
LOCATION:
URL:
END:VEVENT
END:VCALENDAR