BEGIN:VCALENDAR
VERSION:2.0
PRODID:-//DP Pro Event Calendar//3.2.6//EN
BEGIN:VEVENT
UID:1cc3bb78-f7b2-4e33-a002-8ae2b9523c50
DTSTART;TZID=UTC:20200709T183000
DTEND;TZID=UTC:20200709T193000
DTSTAMP:20200608T134922Z
SUMMARY:Dressuur Ilona
DESCRIPTION:
LOCATION:
URL:
END:VEVENT
END:VCALENDAR