BEGIN:VCALENDAR
VERSION:2.0
PRODID:-//DP Pro Event Calendar//3.2.6//EN
BEGIN:VEVENT
UID:84c5f8db-dd1c-4fb3-8c02-83cd7f304e26
DTSTART;TZID=UTC:20200713T190000
DTEND;TZID=UTC:20200713T200000
DTSTAMP:20200608T124225Z
SUMMARY:Dressuur Ilona
DESCRIPTION:
LOCATION:
URL:
END:VEVENT
END:VCALENDAR