BEGIN:VCALENDAR
VERSION:2.0
PRODID:-//DP Pro Event Calendar//3.2.6//EN
BEGIN:VEVENT
UID:5e4b0ead-12ac-4a4a-b149-4f0df4b1f8d2
DTSTART;TZID=UTC:20200716T183000
DTEND;TZID=UTC:20200716T193000
DTSTAMP:20200608T134922Z
SUMMARY:Dressuur Ilona
DESCRIPTION:
LOCATION:
URL:
END:VEVENT
END:VCALENDAR