BEGIN:VCALENDAR
VERSION:2.0
PRODID:-//DP Pro Event Calendar//3.2.6//EN
BEGIN:VEVENT
UID:906dd38f-46fa-42a5-b084-c16c3d8a893f
DTSTART;TZID=UTC:20200716T203000
DTEND;TZID=UTC:20200716T213000
DTSTAMP:20200608T135232Z
SUMMARY:Western Ilona
DESCRIPTION:
LOCATION:
URL:
END:VEVENT
END:VCALENDAR