BEGIN:VCALENDAR
VERSION:2.0
PRODID:-//DP Pro Event Calendar//3.2.6//EN
BEGIN:VEVENT
UID:49fe63de-4241-47d9-a2ca-68978e04ebe8
DTSTART;TZID=UTC:20200720T190000
DTEND;TZID=UTC:20200720T200000
DTSTAMP:20200608T124225Z
SUMMARY:Dressuur Ilona
DESCRIPTION:
LOCATION:
URL:
END:VEVENT
END:VCALENDAR