BEGIN:VCALENDAR
VERSION:2.0
PRODID:-//DP Pro Event Calendar//3.2.6//EN
BEGIN:VEVENT
UID:2682d789-4188-49d3-9e38-9e5da1fbcf8f
DTSTART;TZID=UTC:20200727T190000
DTEND;TZID=UTC:20200727T200000
DTSTAMP:20200608T124225Z
SUMMARY:Dressuur Ilona
DESCRIPTION:
LOCATION:
URL:
END:VEVENT
END:VCALENDAR