BEGIN:VCALENDAR
VERSION:2.0
PRODID:-//DP Pro Event Calendar//3.2.6//EN
BEGIN:VEVENT
UID:23fdb63f-6b09-4a52-a7a6-7d7240c2e0a1
DTSTART;TZID=UTC:20200730T183000
DTEND;TZID=UTC:20200730T193000
DTSTAMP:20200608T134922Z
SUMMARY:Dressuur Ilona
DESCRIPTION:
LOCATION:
URL:
END:VEVENT
END:VCALENDAR