BEGIN:VCALENDAR
VERSION:2.0
PRODID:-//DP Pro Event Calendar//3.2.6//EN
BEGIN:VEVENT
UID:93c9e383-64d0-41a5-bd23-19af8c9748a9
DTSTART;TZID=UTC:20200730T203000
DTEND;TZID=UTC:20200730T213000
DTSTAMP:20200608T135232Z
SUMMARY:Western Ilona
DESCRIPTION:
LOCATION:
URL:
END:VEVENT
END:VCALENDAR