BEGIN:VCALENDAR
VERSION:2.0
PRODID:-//DP Pro Event Calendar//3.2.6//EN
BEGIN:VEVENT
UID:9a82894a-d7a5-44d9-9c58-ea6c13f7916c
DTSTART;TZID=UTC:20200806T203000
DTEND;TZID=UTC:20200806T213000
DTSTAMP:20200608T135232Z
SUMMARY:Western Ilona
DESCRIPTION:
LOCATION:
URL:
END:VEVENT
END:VCALENDAR