BEGIN:VCALENDAR
VERSION:2.0
PRODID:-//DP Pro Event Calendar//3.2.6//EN
BEGIN:VEVENT
UID:befb84b5-ef8b-4dde-9800-6ad20ae8db40
DTSTART;TZID=UTC:20200824T190000
DTEND;TZID=UTC:20200824T200000
DTSTAMP:20200608T124225Z
SUMMARY:Dressuur Ilona
DESCRIPTION:
LOCATION:
URL:
END:VEVENT
END:VCALENDAR