BEGIN:VCALENDAR
VERSION:2.0
PRODID:-//DP Pro Event Calendar//3.2.6//EN
BEGIN:VEVENT
UID:bafde0da-c355-4400-b9b9-a97258f22fa3
DTSTART;TZID=UTC:20200903T203000
DTEND;TZID=UTC:20200903T213000
DTSTAMP:20200608T135232Z
SUMMARY:Western Ilona
DESCRIPTION:
LOCATION:
URL:
END:VEVENT
END:VCALENDAR