BEGIN:VCALENDAR
VERSION:2.0
PRODID:-//DP Pro Event Calendar//3.2.6//EN
BEGIN:VEVENT
UID:b308077e-5abd-41b3-beea-153bce1b9e55
DTSTART;TZID=UTC:20200924T203000
DTEND;TZID=UTC:20200924T213000
DTSTAMP:20200608T135232Z
SUMMARY:Western Ilona
DESCRIPTION:
LOCATION:
URL:
END:VEVENT
END:VCALENDAR