BEGIN:VCALENDAR
VERSION:2.0
PRODID:-//DP Pro Event Calendar//3.2.6//EN
BEGIN:VEVENT
UID:ee5ffefa-7d9c-40d3-85d6-f89bfc62796b
DTSTART;TZID=UTC:20201001T203000
DTEND;TZID=UTC:20201001T213000
DTSTAMP:20200608T135232Z
SUMMARY:Western Ilona
DESCRIPTION:
LOCATION:
URL:
END:VEVENT
END:VCALENDAR