BEGIN:VCALENDAR
VERSION:2.0
PRODID:-//DP Pro Event Calendar//3.2.6//EN
BEGIN:VEVENT
UID:7f38e652-8f8c-4144-941b-79c3c47c2b3d
DTSTART;TZID=UTC:20201015T203000
DTEND;TZID=UTC:20201015T213000
DTSTAMP:20200608T135232Z
SUMMARY:Western Ilona
DESCRIPTION:
LOCATION:
URL:
END:VEVENT
END:VCALENDAR