BEGIN:VCALENDAR
VERSION:2.0
PRODID:-//DP Pro Event Calendar//3.2.6//EN
BEGIN:VEVENT
UID:3bd23640-5ebc-4f61-adcb-92491ce68cf8
DTSTART;TZID=UTC:20201029T203000
DTEND;TZID=UTC:20201029T213000
DTSTAMP:20200608T135232Z
SUMMARY:Western Ilona
DESCRIPTION:
LOCATION:
URL:
END:VEVENT
END:VCALENDAR