BEGIN:VCALENDAR
VERSION:2.0
PRODID:-//DP Pro Event Calendar//3.2.6//EN
BEGIN:VEVENT
UID:6a2d2143-a3ba-4657-958c-eabb479cdbe1
DTSTART;TZID=UTC:20201119T203000
DTEND;TZID=UTC:20201119T213000
DTSTAMP:20200608T135232Z
SUMMARY:Western Ilona
DESCRIPTION:
LOCATION:
URL:
END:VEVENT
END:VCALENDAR