BEGIN:VCALENDAR
VERSION:2.0
PRODID:-//DP Pro Event Calendar//3.2.6//EN
BEGIN:VEVENT
UID:00ba2af4-b9f7-4740-8563-bbb314df51c7
DTSTART;TZID=UTC:20201210T203000
DTEND;TZID=UTC:20201210T213000
DTSTAMP:20200608T135232Z
SUMMARY:Western Ilona
DESCRIPTION:
LOCATION:
URL:
END:VEVENT
END:VCALENDAR