BEGIN:VCALENDAR
VERSION:2.0
PRODID:-//DP Pro Event Calendar//3.2.6//EN
BEGIN:VEVENT
UID:5ce30dff-68e1-47d8-bda8-29c45caf791d
DTSTART;TZID=UTC:20210121T203000
DTEND;TZID=UTC:20210121T213000
DTSTAMP:20200608T135232Z
SUMMARY:Western Ilona
DESCRIPTION:
LOCATION:
URL:
END:VEVENT
END:VCALENDAR