BEGIN:VCALENDAR
VERSION:2.0
PRODID:-//DP Pro Event Calendar//3.2.6//EN
BEGIN:VEVENT
UID:3a6e49aa-b623-4a08-bc82-60c0443ebfe1
DTSTART;TZID=UTC:20210128T203000
DTEND;TZID=UTC:20210128T213000
DTSTAMP:20200608T135232Z
SUMMARY:Western Ilona
DESCRIPTION:
LOCATION:
URL:
END:VEVENT
END:VCALENDAR