BEGIN:VCALENDAR
VERSION:2.0
PRODID:-//DP Pro Event Calendar//3.2.6//EN
BEGIN:VEVENT
UID:201d67a8-a590-4988-a795-72f89ed90253
DTSTART;TZID=UTC:20210211T203000
DTEND;TZID=UTC:20210211T213000
DTSTAMP:20200608T135232Z
SUMMARY:Western Ilona
DESCRIPTION:
LOCATION:
URL:
END:VEVENT
END:VCALENDAR