BEGIN:VCALENDAR
VERSION:2.0
PRODID:-//DP Pro Event Calendar//3.2.6//EN
BEGIN:VEVENT
UID:dbbb4651-0c16-4a4a-9c8e-5cd2e4fd1752
DTSTART;TZID=UTC:20210218T203000
DTEND;TZID=UTC:20210218T213000
DTSTAMP:20200608T135232Z
SUMMARY:Western Ilona
DESCRIPTION:
LOCATION:
URL:
END:VEVENT
END:VCALENDAR