BEGIN:VCALENDAR
VERSION:2.0
PRODID:-//DP Pro Event Calendar//3.2.6//EN
BEGIN:VEVENT
UID:bf73b74e-b15d-4d90-8381-963496a2caff
DTSTART;TZID=UTC:20210225T203000
DTEND;TZID=UTC:20210225T213000
DTSTAMP:20200608T135232Z
SUMMARY:Western Ilona
DESCRIPTION:
LOCATION:
URL:
END:VEVENT
END:VCALENDAR