BEGIN:VCALENDAR
VERSION:2.0
PRODID:-//DP Pro Event Calendar//3.2.6//EN
BEGIN:VEVENT
UID:fe24f84e-798e-4853-9add-1aba35b8db53
DTSTART;TZID=UTC:20210304T203000
DTEND;TZID=UTC:20210304T213000
DTSTAMP:20200608T135232Z
SUMMARY:Western Ilona
DESCRIPTION:
LOCATION:
URL:
END:VEVENT
END:VCALENDAR