BEGIN:VCALENDAR
VERSION:2.0
PRODID:-//DP Pro Event Calendar//3.2.6//EN
BEGIN:VEVENT
UID:d340029c-cd32-48b4-b88f-b24cd021fe70
DTSTART;TZID=UTC:20210311T203000
DTEND;TZID=UTC:20210311T213000
DTSTAMP:20200608T135232Z
SUMMARY:Western Ilona
DESCRIPTION:
LOCATION:
URL:
END:VEVENT
END:VCALENDAR