BEGIN:VCALENDAR
VERSION:2.0
PRODID:-//DP Pro Event Calendar//3.2.6//EN
BEGIN:VEVENT
UID:ea45a274-ff1e-486f-ac29-0e40d22c8c74
DTSTART;TZID=UTC:20210401T203000
DTEND;TZID=UTC:20210401T213000
DTSTAMP:20200608T135232Z
SUMMARY:Western Ilona
DESCRIPTION:
LOCATION:
URL:
END:VEVENT
END:VCALENDAR