BEGIN:VCALENDAR
VERSION:2.0
PRODID:-//DP Pro Event Calendar//3.2.6//EN
BEGIN:VEVENT
UID:f5895bd8-c184-4fd2-87a2-fcb2eaed3a8d
DTSTART;TZID=UTC:20210408T203000
DTEND;TZID=UTC:20210408T213000
DTSTAMP:20200608T135232Z
SUMMARY:Western Ilona
DESCRIPTION:
LOCATION:
URL:
END:VEVENT
END:VCALENDAR