BEGIN:VCALENDAR
VERSION:2.0
PRODID:-//DP Pro Event Calendar//3.2.6//EN
BEGIN:VEVENT
UID:87c84ae3-e27d-471b-8a2c-3b8a980dbd2e
DTSTART;TZID=UTC:20210415T203000
DTEND;TZID=UTC:20210415T213000
DTSTAMP:20200608T135232Z
SUMMARY:Western Ilona
DESCRIPTION:
LOCATION:
URL:
END:VEVENT
END:VCALENDAR