BEGIN:VCALENDAR
VERSION:2.0
PRODID:-//DP Pro Event Calendar//3.2.6//EN
BEGIN:VEVENT
UID:92325036-990e-4e79-bd78-1336228e88e3
DTSTART;TZID=UTC:20210513T203000
DTEND;TZID=UTC:20210513T213000
DTSTAMP:20200608T135232Z
SUMMARY:Western Ilona
DESCRIPTION:
LOCATION:
URL:
END:VEVENT
END:VCALENDAR