BEGIN:VCALENDAR
VERSION:2.0
PRODID:-//DP Pro Event Calendar//3.2.6//EN
BEGIN:VEVENT
UID:8b353087-87ac-44da-9a7e-cdd203325dc6
DTSTART;TZID=UTC:20210527T203000
DTEND;TZID=UTC:20210527T213000
DTSTAMP:20200608T135232Z
SUMMARY:Western Ilona
DESCRIPTION:
LOCATION:
URL:
END:VEVENT
END:VCALENDAR