BEGIN:VCALENDAR
VERSION:2.0
PRODID:-//DP Pro Event Calendar//3.2.6//EN
BEGIN:VEVENT
UID:cfd769f3-df7d-4a02-82ef-4c4f2fdb496c
DTSTART;TZID=UTC:20210603T203000
DTEND;TZID=UTC:20210603T213000
DTSTAMP:20200608T135232Z
SUMMARY:Western Ilona
DESCRIPTION:
LOCATION:
URL:
END:VEVENT
END:VCALENDAR