BEGIN:VCALENDAR
VERSION:2.0
PRODID:-//DP Pro Event Calendar//3.2.6//EN
BEGIN:VEVENT
UID:5fddb90b-82b7-4a94-b02e-640c63e9e5cf
DTSTART;TZID=UTC:20210619T130000
DTEND;TZID=UTC:20210619T140000
DTSTAMP:20200608T143116Z
SUMMARY:Dressuur Ilona
DESCRIPTION:1x per maand worden de dressuur lessen van Ilona op de Zaterdag overgenomen door Ilse.
LOCATION:
URL:
END:VEVENT
END:VCALENDAR