BEGIN:VCALENDAR
VERSION:2.0
PRODID:-//DP Pro Event Calendar//3.2.6//EN
BEGIN:VEVENT
UID:9cdd3662-e4a6-4035-8457-577c91b3b9ff
DTSTART;TZID=UTC:20210722T203000
DTEND;TZID=UTC:20210722T213000
DTSTAMP:20200608T135232Z
SUMMARY:Western Ilona
DESCRIPTION:
LOCATION:
URL:
END:VEVENT
END:VCALENDAR