BEGIN:VCALENDAR
VERSION:2.0
PRODID:-//DP Pro Event Calendar//3.2.6//EN
BEGIN:VEVENT
UID:cee7d392-17f5-4d2e-b05b-2df5e7e05ef5
DTSTART;TZID=UTC:20210805T203000
DTEND;TZID=UTC:20210805T213000
DTSTAMP:20200608T135232Z
SUMMARY:Western Ilona
DESCRIPTION:
LOCATION:
URL:
END:VEVENT
END:VCALENDAR