BEGIN:VCALENDAR
VERSION:2.0
PRODID:-//DP Pro Event Calendar//3.2.6//EN
BEGIN:VEVENT
UID:beea3b31-0212-45f5-a0a3-7e1994c4afd9
DTSTART;TZID=UTC:20210826T203000
DTEND;TZID=UTC:20210826T213000
DTSTAMP:20200608T135232Z
SUMMARY:Western Ilona
DESCRIPTION:
LOCATION:
URL:
END:VEVENT
END:VCALENDAR