BEGIN:VCALENDAR
VERSION:2.0
PRODID:-//DP Pro Event Calendar//3.2.6//EN
BEGIN:VEVENT
UID:7674fadf-fd83-4ca9-98c2-72bb77e0ee7d
DTSTART;TZID=UTC:20210902T203000
DTEND;TZID=UTC:20210902T213000
DTSTAMP:20200608T135232Z
SUMMARY:Western Ilona
DESCRIPTION:
LOCATION:
URL:
END:VEVENT
END:VCALENDAR