BEGIN:VCALENDAR
VERSION:2.0
PRODID:-//DP Pro Event Calendar//3.2.6//EN
BEGIN:VEVENT
UID:9b4df5a2-4ec5-4f3a-9bc0-383e083e1e80
DTSTART;TZID=UTC:20210909T203000
DTEND;TZID=UTC:20210909T213000
DTSTAMP:20200608T135232Z
SUMMARY:Western Ilona
DESCRIPTION:
LOCATION:
URL:
END:VEVENT
END:VCALENDAR