BEGIN:VCALENDAR
VERSION:2.0
PRODID:-//DP Pro Event Calendar//3.2.6//EN
BEGIN:VEVENT
UID:153d2bba-cc5f-4a67-8309-5690aed7f81b
DTSTART;TZID=UTC:20210916T203000
DTEND;TZID=UTC:20210916T213000
DTSTAMP:20200608T135232Z
SUMMARY:Western Ilona
DESCRIPTION:
LOCATION:
URL:
END:VEVENT
END:VCALENDAR