BEGIN:VCALENDAR
VERSION:2.0
PRODID:-//DP Pro Event Calendar//3.2.6//EN
BEGIN:VEVENT
UID:364c69ef-450f-4251-b1d0-1e7c27e16cf9
DTSTART;TZID=UTC:20210918T130000
DTEND;TZID=UTC:20210918T140000
DTSTAMP:20200608T143116Z
SUMMARY:Dressuur Ilona
DESCRIPTION:1x per maand worden de dressuur lessen van Ilona op de Zaterdag overgenomen door Ilse.
LOCATION:
URL:
END:VEVENT
END:VCALENDAR