BEGIN:VCALENDAR
VERSION:2.0
PRODID:-//DP Pro Event Calendar//3.2.6//EN
BEGIN:VEVENT
UID:4e230dae-1ca0-40bb-aa27-e42e3e5d0e2b
DTSTART;TZID=UTC:20210923T203000
DTEND;TZID=UTC:20210923T213000
DTSTAMP:20200608T135232Z
SUMMARY:Western Ilona
DESCRIPTION:
LOCATION:
URL:
END:VEVENT
END:VCALENDAR